BEGIN:VCALENDAR
VERSION:2.0
PRODID:-//The Basque Museum &amp; Cultural Center | Boise, ID - ECPv6.15.19//NONSGML v1.0//EN
CALSCALE:GREGORIAN
METHOD:PUBLISH
X-ORIGINAL-URL:https://basquemuseum.eus
X-WR-CALDESC:Events for The Basque Museum &amp; Cultural Center | Boise, ID
REFRESH-INTERVAL;VALUE=DURATION:PT1H
X-Robots-Tag:noindex
X-PUBLISHED-TTL:PT1H
BEGIN:VTIMEZONE
TZID:America/Boise
BEGIN:DAYLIGHT
TZOFFSETFROM:-0700
TZOFFSETTO:-0600
TZNAME:MDT
DTSTART:20210314T090000
END:DAYLIGHT
BEGIN:STANDARD
TZOFFSETFROM:-0600
TZOFFSETTO:-0700
TZNAME:MST
DTSTART:20211107T080000
END:STANDARD
BEGIN:DAYLIGHT
TZOFFSETFROM:-0700
TZOFFSETTO:-0600
TZNAME:MDT
DTSTART:20220313T090000
END:DAYLIGHT
BEGIN:STANDARD
TZOFFSETFROM:-0600
TZOFFSETTO:-0700
TZNAME:MST
DTSTART:20221106T080000
END:STANDARD
BEGIN:DAYLIGHT
TZOFFSETFROM:-0700
TZOFFSETTO:-0600
TZNAME:MDT
DTSTART:20230312T090000
END:DAYLIGHT
BEGIN:STANDARD
TZOFFSETFROM:-0600
TZOFFSETTO:-0700
TZNAME:MST
DTSTART:20231105T080000
END:STANDARD
END:VTIMEZONE
BEGIN:VEVENT
DTSTART;TZID=America/Boise:20220602T170000
DTEND;TZID=America/Boise:20220602T200000
DTSTAMP:20260424T072738
CREATED:20220526T230416Z
LAST-MODIFIED:20220526T230416Z
UID:50043-1654189200-1654200000@basquemuseum.eus
SUMMARY:June First Thursday
DESCRIPTION:
URL:https://basquemuseum.eus/event/june-first-thursday/
ATTACH;FMTTYPE=image/jpeg:https://basquemuseum.eus/content/uploads/2022/05/1.jpg
END:VEVENT
END:VCALENDAR