BEGIN:VCALENDAR
VERSION:2.0
PRODID:-//The Basque Museum &amp; Cultural Center | Boise, ID - ECPv6.15.19//NONSGML v1.0//EN
CALSCALE:GREGORIAN
METHOD:PUBLISH
X-WR-CALNAME:The Basque Museum &amp; Cultural Center | Boise, ID
X-ORIGINAL-URL:https://basquemuseum.eus
X-WR-CALDESC:Events for The Basque Museum &amp; Cultural Center | Boise, ID
REFRESH-INTERVAL;VALUE=DURATION:PT1H
X-Robots-Tag:noindex
X-PUBLISHED-TTL:PT1H
BEGIN:VTIMEZONE
TZID:America/Boise
BEGIN:DAYLIGHT
TZOFFSETFROM:-0700
TZOFFSETTO:-0600
TZNAME:MDT
DTSTART:20250309T090000
END:DAYLIGHT
BEGIN:STANDARD
TZOFFSETFROM:-0600
TZOFFSETTO:-0700
TZNAME:MST
DTSTART:20251102T080000
END:STANDARD
BEGIN:DAYLIGHT
TZOFFSETFROM:-0700
TZOFFSETTO:-0600
TZNAME:MDT
DTSTART:20260308T090000
END:DAYLIGHT
BEGIN:STANDARD
TZOFFSETFROM:-0600
TZOFFSETTO:-0700
TZNAME:MST
DTSTART:20261101T080000
END:STANDARD
BEGIN:DAYLIGHT
TZOFFSETFROM:-0700
TZOFFSETTO:-0600
TZNAME:MDT
DTSTART:20270314T090000
END:DAYLIGHT
BEGIN:STANDARD
TZOFFSETFROM:-0600
TZOFFSETTO:-0700
TZNAME:MST
DTSTART:20271107T080000
END:STANDARD
END:VTIMEZONE
BEGIN:VEVENT
DTSTART;TZID=America/Boise:20260620T110000
DTEND;TZID=America/Boise:20260620T150000
DTSTAMP:20260422T221219
CREATED:20260420T162617Z
LAST-MODIFIED:20260420T162617Z
UID:68892-1781953200-1781967600@basquemuseum.eus
SUMMARY:Kids Interactive Day at the Museum!
DESCRIPTION:Looking for a fun family day this summer? Come on down to the museum on June 20 from 11am to 3pm for an activity packed day where history comes alive and culture is celebrated. Kids can explore and play while learning a bit too! \nReduced admission: $2 per person or $8 per family!
URL:https://basquemuseum.eus/event/kids-interactive-day-at-the-museum/
ATTACH;FMTTYPE=image/png:https://basquemuseum.eus/content/uploads/2026/04/KIds-Interactive-museum-day.png
END:VEVENT
BEGIN:VEVENT
DTSTART;TZID=America/Boise:20260711T170000
DTEND;TZID=America/Boise:20260711T220000
DTSTAMP:20260422T221219
CREATED:20231220T175117Z
LAST-MODIFIED:20251210T000336Z
UID:60829-1783789200-1783807200@basquemuseum.eus
SUMMARY:Running of the Bars
DESCRIPTION:July 11 on the Basque Block. Pub crawl\, Basque style.  Grab your whites and get ready to “run”! \nMore information to come! \nTickets on sale March 1.
URL:https://basquemuseum.eus/event/running-of-the-bars/
ATTACH;FMTTYPE=image/png:https://basquemuseum.eus/content/uploads/2025/12/2025-ROTB.png
END:VEVENT
BEGIN:VEVENT
DTSTART;TZID=America/Boise:20260721T083000
DTEND;TZID=America/Boise:20260721T130000
DTSTAMP:20260422T221219
CREATED:20260318T191135Z
LAST-MODIFIED:20260320T195530Z
UID:68789-1784622600-1784638800@basquemuseum.eus
SUMMARY:Pilota Camp 2026
DESCRIPTION:EARLY BIRD REGISTRATION OPEN!!! \nWe are excited to announce that Pilota Camp will be expanding this year to include herri kirolak (country sports) and a soccer workshop! \nAthletes from the World Pilota Association will be here again to teach and mentor! \nEarly Bird Fee: $130 \nMembers: $110 \n*** Fee includes camp\, snacks\, shirt\, and bag*** \nCamp Dates: July 21-24 and July 27-30. Pick one camp or both! \nCamp will run from 8:30am-1pm \nAges: 8-15 \nCAMP 1 REGISTER HERE \nCAMP 2 REGISTER HERE \nIf you would like additional information\, please contact abbyg@basquemuseum.eus. \nBrought to you by the generous donations from the John Kirtland Endowment! \n 
URL:https://basquemuseum.eus/event/pilota-camp-2026/
ATTACH;FMTTYPE=image/png:https://basquemuseum.eus/content/uploads/2026/03/Thynk-Unlimited-university-2.png
END:VEVENT
BEGIN:VEVENT
DTSTART;TZID=America/Boise:20260829T173000
DTEND;TZID=America/Boise:20260829T203000
DTSTAMP:20260422T221219
CREATED:20231220T175346Z
LAST-MODIFIED:20251209T174739Z
UID:60831-1788024600-1788035400@basquemuseum.eus
SUMMARY:Winefest 2026
DESCRIPTION:Join us on the Basque Block as we share more than 100 wines\, raffle prizes\, music\, and dancing while raising funds for the Basque Museum! \nAugust 29 5:30-8:30pm \nClick here to purchase tickets!
URL:https://basquemuseum.eus/event/winefest-2026/
ATTACH;FMTTYPE=image/png:https://basquemuseum.eus/content/uploads/2025/12/2025-Winefest.png
END:VEVENT
BEGIN:VEVENT
DTSTART;TZID=America/Boise:20261206T110000
DTEND;TZID=America/Boise:20261206T150000
DTSTAMP:20260422T221219
CREATED:20231220T175616Z
LAST-MODIFIED:20251209T174634Z
UID:60833-1796554800-1796569200@basquemuseum.eus
SUMMARY:Eguberriko Azoka - Basque Winter Market
DESCRIPTION:Mark your calendar – December 6. \nBasque Christmas Market and so much more! \nMore information to come.
URL:https://basquemuseum.eus/event/eguberriko-azoka-basque-winter-market/
ATTACH;FMTTYPE=image/png:https://basquemuseum.eus/content/uploads/2025/12/2025-Azoka.png
END:VEVENT
END:VCALENDAR